BEGIN:VCALENDAR
VERSION:2.0
PRODID:-//Medical Affairs Professional Society - ECPv6.15.20//NONSGML v1.0//EN
CALSCALE:GREGORIAN
METHOD:PUBLISH
X-WR-CALNAME:Medical Affairs Professional Society
X-ORIGINAL-URL:https://medicalaffairs.org
X-WR-CALDESC:Events for Medical Affairs Professional Society
REFRESH-INTERVAL;VALUE=DURATION:PT1H
X-Robots-Tag:noindex
X-PUBLISHED-TTL:PT1H
BEGIN:VTIMEZONE
TZID:Asia/Tokyo
BEGIN:STANDARD
TZOFFSETFROM:+0900
TZOFFSETTO:+0900
TZNAME:JST
DTSTART:20230101T000000
END:STANDARD
END:VTIMEZONE
BEGIN:VEVENT
DTSTART;TZID=Asia/Tokyo:20240527T180000
DTEND;TZID=Asia/Tokyo:20240527T190000
DTSTAMP:20260422T161352
CREATED:20240508T225508Z
LAST-MODIFIED:20240517T140718Z
UID:46268-1716832800-1716836400@medicalaffairs.org
SUMMARY:KSPM-MAPS Joint Webinar: The Value and Impact of Medical Affairs
DESCRIPTION:Join us for an exciting webinar\, co-organized by KSPM and MAPS\, that will highlight the critical role of Medical Affairs in the healthcare industry. Industry experts from Korea and global will discuss the strategic value and tangible impact Medical Affairs professionals make in advancing patient care and driving pharmaceutical innovation. \n\n\n\nDon’t miss this opportunity to gain insights and join the conversation on the evolving landscape of Medical Affairs! \n\n\n\n\nRegister\n\n\n\n\n\n\n\n\n\n\n\nSpeaker: \n\n\n\nVictoria Elegant \n\n\n\nAPAC President \n\n\n\nMAPS \n\n\n\n\n\n\n\nSpeaker: \n\n\n\nHyungJin Jung \n\n\n\nVice President \n\n\n\nKSPM \n\n\n\n\n\n\n\nSpeaker: \n\n\n\nInSu Cho \n\n\n\nHead of Medical\, Specialty Care \n\n\n\nSanofi Korea \n\n\n\n\n\n\n\n\n\nSpeaker: \n\n\n\nSooa Kim \n\n\n\nSenior Medical Director \n\n\n\nAmgen Korea \n\n\n\n\n\n\n\nSpeaker: \n\n\n\nHahn-Ey Lee \n\n\n\nTransformation and Operations Excellence Lead \n\n\n\nPfizer
URL:https://medicalaffairs.org/events/kspm-maps-joint-webinar-the-value-and-impact-of-medical-affairs/
CATEGORIES:Webinar
ATTACH;FMTTYPE=image/png:https://medicalaffairs.org/wp-content/uploads/2024/05/May27_webinar.png
END:VEVENT
END:VCALENDAR