BEGIN:VCALENDAR
VERSION:2.0
PRODID:-//Medical Affairs Professional Society - ECPv6.15.20//NONSGML v1.0//EN
CALSCALE:GREGORIAN
METHOD:PUBLISH
X-ORIGINAL-URL:https://medicalaffairs.org
X-WR-CALDESC:Events for Medical Affairs Professional Society
REFRESH-INTERVAL;VALUE=DURATION:PT1H
X-Robots-Tag:noindex
X-PUBLISHED-TTL:PT1H
BEGIN:VTIMEZONE
TZID:America/New_York
BEGIN:DAYLIGHT
TZOFFSETFROM:-0500
TZOFFSETTO:-0400
TZNAME:EDT
DTSTART:20240310T070000
END:DAYLIGHT
BEGIN:STANDARD
TZOFFSETFROM:-0400
TZOFFSETTO:-0500
TZNAME:EST
DTSTART:20241103T060000
END:STANDARD
BEGIN:DAYLIGHT
TZOFFSETFROM:-0500
TZOFFSETTO:-0400
TZNAME:EDT
DTSTART:20250309T070000
END:DAYLIGHT
BEGIN:STANDARD
TZOFFSETFROM:-0400
TZOFFSETTO:-0500
TZNAME:EST
DTSTART:20251102T060000
END:STANDARD
BEGIN:DAYLIGHT
TZOFFSETFROM:-0500
TZOFFSETTO:-0400
TZNAME:EDT
DTSTART:20260308T070000
END:DAYLIGHT
BEGIN:STANDARD
TZOFFSETFROM:-0400
TZOFFSETTO:-0500
TZNAME:EST
DTSTART:20261101T060000
END:STANDARD
END:VTIMEZONE
BEGIN:VEVENT
DTSTART;TZID=America/New_York:20250124T100000
DTEND;TZID=America/New_York:20250124T110000
DTSTAMP:20260422T235544
CREATED:20241210T175825Z
LAST-MODIFIED:20250121T232431Z
UID:50275-1737712800-1737716400@medicalaffairs.org
SUMMARY:Unlocking Impact for Medical Affairs: 5 Actions for Today to Build for Tomorrow
DESCRIPTION:Understanding the impact of Medical Affairs efforts is more important than ever. We are at a critical moment in our industry\, in which the imperative to demonstrate how our tactics and activities ladder up to true impact for HCPs and patients has never been greater. Yet\, defining and evaluating impact in the setting of Medical Affairs remains uniquely challenging. Join us as we discuss key considerations for driving our function forward on impact\, initiating conversations on impact\, and practical considerations for improving the evaluation of impact. \n\n\n\nLearning Objectives: \n\n\n\n\nDefine the principles of impact in Medical Affairs and consider the role of metrics and KPIs in impact assessment.\n\n\n\nExplore approaches to impact in different settings: the industry (biotech to big pharma)\, disease states (rare to more prevalent)\, and therapeutic technologies (e.g.\, gene therapy and wearables).\n\n\n\nGenerate insights on the practical adoption of impact in Medical Affairs’ strategic and tactical approaches.\n\n\n\nConsider the importance and role of Medical Affairs as a key driver of impact and its role within the cross-functional team.\n\n\n\n\n \n\n\n\n\nRegister\n\n\n\n\n\n\n\nModerator: \n\n\n\nAilsa Stewart \n\n\n\nExecutive Director\, Medical Affairs \n\n\n\nHCG \n\n\n\n\n\n\n\nSpeaker: \n\n\n\nBryan Sepulveda \n\n\n\nSenior Director\, Global Medical Affairs Lead \n\n\n\nSirtex \n\n\n\n\n\n\n\nSpeaker:  \n\n\n\nVeena Narayan \n\n\n\nMedical Director \n\n\n\nIonis Pharmaceuticals\, Inc. \n\n\n\n\n\n\n\n\n\nSpeaker: \n\n\n\nIan Winburn \n\n\n\nChief Medical Affairs Officer – Specialty Care \n\n\n\nPfizer
URL:https://medicalaffairs.org/events/pcm-jan24/
CATEGORIES:Webinar
ATTACH;FMTTYPE=image/png:https://medicalaffairs.org/wp-content/uploads/2024/12/PCM_Website_Jan242025.png
END:VEVENT
END:VCALENDAR