BEGIN:VCALENDAR
VERSION:2.0
PRODID:-//Medical Affairs Professional Society - ECPv6.15.20//NONSGML v1.0//EN
CALSCALE:GREGORIAN
METHOD:PUBLISH
X-ORIGINAL-URL:https://medicalaffairs.org
X-WR-CALDESC:Events for Medical Affairs Professional Society
REFRESH-INTERVAL;VALUE=DURATION:PT1H
X-Robots-Tag:noindex
X-PUBLISHED-TTL:PT1H
BEGIN:VTIMEZONE
TZID:America/New_York
BEGIN:DAYLIGHT
TZOFFSETFROM:-0500
TZOFFSETTO:-0400
TZNAME:EDT
DTSTART:20240310T070000
END:DAYLIGHT
BEGIN:STANDARD
TZOFFSETFROM:-0400
TZOFFSETTO:-0500
TZNAME:EST
DTSTART:20241103T060000
END:STANDARD
BEGIN:DAYLIGHT
TZOFFSETFROM:-0500
TZOFFSETTO:-0400
TZNAME:EDT
DTSTART:20250309T070000
END:DAYLIGHT
BEGIN:STANDARD
TZOFFSETFROM:-0400
TZOFFSETTO:-0500
TZNAME:EST
DTSTART:20251102T060000
END:STANDARD
BEGIN:DAYLIGHT
TZOFFSETFROM:-0500
TZOFFSETTO:-0400
TZNAME:EDT
DTSTART:20260308T070000
END:DAYLIGHT
BEGIN:STANDARD
TZOFFSETFROM:-0400
TZOFFSETTO:-0500
TZNAME:EST
DTSTART:20261101T060000
END:STANDARD
END:VTIMEZONE
BEGIN:VEVENT
DTSTART;TZID=America/New_York:20250117T100000
DTEND;TZID=America/New_York:20250117T110000
DTSTAMP:20260422T174309
CREATED:20241204T190023Z
LAST-MODIFIED:20250107T195631Z
UID:50223-1737108000-1737111600@medicalaffairs.org
SUMMARY:Unlocking the Power of Omnichannel: Integrating Medical Strategy and Customer Experience to Transform Scientific Exchange
DESCRIPTION:In recent years\, the remit of medical affairs’ education and engagement has extended to include a diverse set of stakeholders\, including HCPs\, payers\, and patients. These stakeholders are looking for trusted information that reflects their needs\, lexicon\, and background knowledge. As medical affairs leaders\, we have both the opportunity and responsibility to provide customer-centric engagement but it can feel overwhelming to do so in a world of limited time\, budget\, and resources – especially when just starting out. \n\n\n\nIn this webinar\, we will discuss how to develop a customer-centric engagement strategy leveraging an omnichannel approach. We will take a step-by-step look at how to: \n\n\n\n\n· Integrate medical and CX strategy\n\n\n\n· Leverage data to fuel audience segmentation and targeting\n\n\n\n· Build a scientific customer journey\n\n\n\n· Create tailored content using an effective content strategy\n\n\n\n· Prioritize and deploy a relevant channel mix\n\n\n\n· Optimize your approach through measurement\, reporting\, and insight generation\n\n\n\n\nThis webinar is appropriate for companies along the spectrum of omnichannel maturity.  We will discuss how to leverage a crawl-walk-run approach\, taking the next best step wherever you are.   \n\n\n\n \n\n\n\n\nRegister\n\n\n\n\n\n\n\nModerator: \n\n\n\nIlia Antonino \n\n\n\nSr. Director\, Head of External Medical Communications \n\n\n\nScholar Rock \n\n\n\n\n\n\n\nPanelist: \n\n\n\nTara Stewart \n\n\n\nManaging Director \n\n\n\nHavas \n\n\n\n\n\n\n\nPanelist:  \n\n\n\nSteven Hantke \n\n\n\nVP\, account Supervisor \n\n\n\nHavas
URL:https://medicalaffairs.org/events/january17-pcm/
CATEGORIES:Webinar
ATTACH;FMTTYPE=image/png:https://medicalaffairs.org/wp-content/uploads/2024/12/PCM_Jan17_Havas_website_webinar.png
END:VEVENT
END:VCALENDAR