BEGIN:VCALENDAR
VERSION:2.0
PRODID:-//Medical Affairs Professional Society - ECPv6.15.20//NONSGML v1.0//EN
CALSCALE:GREGORIAN
METHOD:PUBLISH
X-ORIGINAL-URL:https://medicalaffairs.org
X-WR-CALDESC:Events for Medical Affairs Professional Society
REFRESH-INTERVAL;VALUE=DURATION:PT1H
X-Robots-Tag:noindex
X-PUBLISHED-TTL:PT1H
BEGIN:VTIMEZONE
TZID:America/Vancouver
BEGIN:DAYLIGHT
TZOFFSETFROM:-0800
TZOFFSETTO:-0700
TZNAME:PDT
DTSTART:20240310T100000
END:DAYLIGHT
BEGIN:STANDARD
TZOFFSETFROM:-0700
TZOFFSETTO:-0800
TZNAME:PST
DTSTART:20241103T090000
END:STANDARD
BEGIN:DAYLIGHT
TZOFFSETFROM:-0800
TZOFFSETTO:-0700
TZNAME:PDT
DTSTART:20250309T100000
END:DAYLIGHT
BEGIN:STANDARD
TZOFFSETFROM:-0700
TZOFFSETTO:-0800
TZNAME:PST
DTSTART:20251102T090000
END:STANDARD
BEGIN:DAYLIGHT
TZOFFSETFROM:-0800
TZOFFSETTO:-0700
TZNAME:PDT
DTSTART:20260308T100000
END:DAYLIGHT
BEGIN:STANDARD
TZOFFSETFROM:-0700
TZOFFSETTO:-0800
TZNAME:PST
DTSTART:20261101T090000
END:STANDARD
END:VTIMEZONE
BEGIN:VEVENT
DTSTART;TZID=America/Vancouver:20250227T170000
DTEND;TZID=America/Vancouver:20250227T193000
DTSTAMP:20260425T105027
CREATED:20250206T211240Z
LAST-MODIFIED:20250211T224643Z
UID:51477-1740675600-1740684600@medicalaffairs.org
SUMMARY:Leveraging Digital Capabilities to Enhance Customer Engagement and Scientific Communication
DESCRIPTION:Key Conversation Objectives: \n\n\n\n\nFuture considerations\n\n\n\nImportance of Customer Engagement of Scientific Communication through a digital strategy  \n\n\n\nExamples of current Digital solutions used in Scientific Communication\n\n\n\nChallenges and Opportunities in streamlining and expanding solutions more broadly (i.e. how are we enhancing engagement)\n\n\n\n\nKeep in touch on the Chapter LinkedIn page! \n\n\n\n\n\nTHANK YOU TO OUR SPONSOR: \n\n\n\n\n\n\n\n\n\n\n\n\n\nTICKET COST: \n\n\n\nMembers Only – FreeNon-member – $50 \n\n\n\n\nRegister\n\n\n\n\n\n\nVenue:  \n\n\n\nFoundry & Lux151 Oyster Point Blvd\,South San Francisco\, California  94080 \n\n\n\n\n\n\n\n \n\n\n\nCO-FACILITATORS\n\n\n\n\n\n\n\n\n\nDannis Chang \n\n\n\nSenior Director\, Global Scientific Communications and Publications\,Bicycle Therapeutics \n\n\n\n\n\n\n\n\n\nSam Chung \n\n\n\nAssociate Director\, Global Medical Information\, Gilead Sciences\, Inc. \n\n\n\n\n\n\n\n\n\n\n\nPANELISTS\n\n\n\n\n\n\n\n\n\n\n\n\n\n\n\nMitch Nagao \n\n\n\nSenior Vice President\, Medical Affairs\, Soleno Therapeutics \n\n\n\n\n\n\n\n\n\n\n\n\n\nMelanie Jardim \n\n\n\nVice President\, Strategic Services\, Amplify \n\n\n\n \n\n\n\n\n\n\n\n\n\nAndrea Lacasia \n\n\n\nSenior Director\, Global Medical Information and Communications\, Ultragenyx
URL:https://medicalaffairs.org/events/wcc-feb27/
CATEGORIES:Chapter: West Coast Corridor,Chapter Events
ATTACH;FMTTYPE=image/png:https://medicalaffairs.org/wp-content/uploads/2025/02/WCC-inPerson-Panel-feb-27-.png
END:VEVENT
END:VCALENDAR