BEGIN:VCALENDAR
VERSION:2.0
PRODID:-//Medical Affairs Professional Society - ECPv6.15.20//NONSGML v1.0//EN
CALSCALE:GREGORIAN
METHOD:PUBLISH
X-ORIGINAL-URL:https://medicalaffairs.org
X-WR-CALDESC:Events for Medical Affairs Professional Society
REFRESH-INTERVAL;VALUE=DURATION:PT1H
X-Robots-Tag:noindex
X-PUBLISHED-TTL:PT1H
BEGIN:VTIMEZONE
TZID:America/New_York
BEGIN:DAYLIGHT
TZOFFSETFROM:-0500
TZOFFSETTO:-0400
TZNAME:EDT
DTSTART:20230312T070000
END:DAYLIGHT
BEGIN:STANDARD
TZOFFSETFROM:-0400
TZOFFSETTO:-0500
TZNAME:EST
DTSTART:20231105T060000
END:STANDARD
BEGIN:DAYLIGHT
TZOFFSETFROM:-0500
TZOFFSETTO:-0400
TZNAME:EDT
DTSTART:20240310T070000
END:DAYLIGHT
BEGIN:STANDARD
TZOFFSETFROM:-0400
TZOFFSETTO:-0500
TZNAME:EST
DTSTART:20241103T060000
END:STANDARD
BEGIN:DAYLIGHT
TZOFFSETFROM:-0500
TZOFFSETTO:-0400
TZNAME:EDT
DTSTART:20250309T070000
END:DAYLIGHT
BEGIN:STANDARD
TZOFFSETFROM:-0400
TZOFFSETTO:-0500
TZNAME:EST
DTSTART:20251102T060000
END:STANDARD
END:VTIMEZONE
BEGIN:VTIMEZONE
TZID:America/Chicago
BEGIN:DAYLIGHT
TZOFFSETFROM:-0600
TZOFFSETTO:-0500
TZNAME:CDT
DTSTART:20230312T080000
END:DAYLIGHT
BEGIN:STANDARD
TZOFFSETFROM:-0500
TZOFFSETTO:-0600
TZNAME:CST
DTSTART:20231105T070000
END:STANDARD
BEGIN:DAYLIGHT
TZOFFSETFROM:-0600
TZOFFSETTO:-0500
TZNAME:CDT
DTSTART:20240310T080000
END:DAYLIGHT
BEGIN:STANDARD
TZOFFSETFROM:-0500
TZOFFSETTO:-0600
TZNAME:CST
DTSTART:20241103T070000
END:STANDARD
BEGIN:DAYLIGHT
TZOFFSETFROM:-0600
TZOFFSETTO:-0500
TZNAME:CDT
DTSTART:20250309T080000
END:DAYLIGHT
BEGIN:STANDARD
TZOFFSETFROM:-0500
TZOFFSETTO:-0600
TZNAME:CST
DTSTART:20251102T070000
END:STANDARD
END:VTIMEZONE
BEGIN:VEVENT
DTSTART;TZID=America/New_York:20241120T100000
DTEND;TZID=America/New_York:20241120T110000
DTSTAMP:20260424T061607
CREATED:20241112T182519Z
LAST-MODIFIED:20241112T202820Z
UID:49932-1732096800-1732100400@medicalaffairs.org
SUMMARY:Keeping it Real: Patient Engagement in Evidence Generation
DESCRIPTION:Explore how AI can revolutionize your daily practice in Medical Affairs. This session will present a Regulatory bodies such as the Food and Drug Administration (FDA) and European Medicines Agency (EMA) are increasingly recognising the value of supplementing clinical trial data with real-world evidence to improve understanding of drug performance in the healthcare setting. \n\n\n\nConsequently\, Pharma companies are increasingly including real-world studies in their evidence \n\n\n\n\nUnderstand the opportunities and best practices for involving patient partners in the generation of real-world evidence\n\n\n\nExplore\, using case studies\, the value of patient engagement in the design\, delivery\, analysis and communication of real-world studies\n\n\n\nHighlight the importance of Medical Affairs and Health Economics and Outcomes Research (HEOR) professionals in partnering with colleagues from different functions in Pharma to ensure patients are effectively engaged throughout the product lifecycle\n\n\n\nDiscuss barriers and propose solutions to optimal patient engagement in real-world studies\n\n\n\n\n \n\n\n\n\nRegister\n\n\n\n\n\n\n\nModerator: \n\n\n\nCerise James \n\n\n\nRegional Medical Director \n\n\n\nEvidence Generation Domain Lead \n\n\n\n\n\n\n\nPanelist: \n\n\n\nDawn Lobban \n\n\n\nCo-Founder \n\n\n\nAmica Scientific \n\n\n\n\n\n\n\nPanelist:  \n\n\n\nSusan Thornton \n\n\n\nCEO \n\n\n\nCutaneous Lymphoma Foundation \n\n\n\n\n\n\n\n\n\nPanelist: \n\n\n\nAngela Williams \n\n\n\nVP Global HEOR Head \n\n\n\nKyowa Kirin \n\n\n\n\n\n\n\nPanelist: \n\n\n\nBhavik Pandya \n\n\n\nDirector\, Oncology Health Economics \n\n\n\nAstellas
URL:https://medicalaffairs.org/events/pt-engagement/
CATEGORIES:Webinar
ATTACH;FMTTYPE=image/png:https://medicalaffairs.org/wp-content/uploads/2024/11/eCademy-Course_Nov20.png
END:VEVENT
BEGIN:VEVENT
DTSTART;TZID=America/Chicago:20241120T170000
DTEND;TZID=America/Chicago:20241120T180000
DTSTAMP:20260424T061607
CREATED:20241115T201427Z
LAST-MODIFIED:20241115T201547Z
UID:50041-1732122000-1732125600@medicalaffairs.org
SUMMARY:Chapter Event: NEW MAPS South Central Region Announcement
DESCRIPTION:Join us on November 20th at 5:00 PM CST has we unveil the new MAPS South-Central Region – Houston Chapter and introduce the volunteer Chapter Leads.With more than 300 members in the Greater Texas area\, we see a significant chance to create a dynamic local community of medical affairs professionals. Our goal is to set up a chapter that offers valuable networking\, educational\, and collaborative events\, both online and face-to-face\, multiple times a year.With support from MAPS AMERICAS Region President\, John Pracyk\, Denise Clark\, Regional Medical Director\, Amgen and Tonya West\, National MSL Director\, Abbvie have graciously accepted to volunteer as Region Chapter Co-leads\, with the initial focus around the Houston/Dallas area. As volunteer co-lead\, they will play a crucial role in shaping the foundation and future of our local South Central MAPS community.Please join our virtual introductory meeting on November 20th to help MAPS support and grow the Medical Affairs community in the South-Central region.This event offers free registration and is open to both MAPS members and Non-Members interested in learning about MAPS chapters and getting involved. \n\n\n\n\nRegister\n\n\n\n\n\n\n\nChapter Host: \n\n\n\nDenise Clark \n\n\n\nRegional Medical Director \n\n\n\nAmgen \n\n\n\n\n\n\n\nChapter Host: \n\n\n\nTonya West \n\n\n\nNational MSL Director \n\n\n\nAbbvie \n\n\n\n\n\n\n\nPanelist:  \n\n\n\nJohn Pracyk \n\n\n\nMAPS AMERICA Region President Chief Medical Safety Officer \n\n\n\nOlympus
URL:https://medicalaffairs.org/events/south-central-announcement/
CATEGORIES:Chapter Events
ATTACH;FMTTYPE=image/png:https://medicalaffairs.org/wp-content/uploads/2024/11/Nov20_SCentral.png
END:VEVENT
END:VCALENDAR