BEGIN:VCALENDAR
VERSION:2.0
PRODID:-//Medical Affairs Professional Society - ECPv6.15.20//NONSGML v1.0//EN
CALSCALE:GREGORIAN
METHOD:PUBLISH
X-WR-CALNAME:Medical Affairs Professional Society
X-ORIGINAL-URL:https://medicalaffairs.org
X-WR-CALDESC:Events for Medical Affairs Professional Society
REFRESH-INTERVAL;VALUE=DURATION:PT1H
X-Robots-Tag:noindex
X-PUBLISHED-TTL:PT1H
BEGIN:VTIMEZONE
TZID:Europe/Berlin
BEGIN:DAYLIGHT
TZOFFSETFROM:+0100
TZOFFSETTO:+0200
TZNAME:CEST
DTSTART:20230326T010000
END:DAYLIGHT
BEGIN:STANDARD
TZOFFSETFROM:+0200
TZOFFSETTO:+0100
TZNAME:CET
DTSTART:20231029T010000
END:STANDARD
BEGIN:DAYLIGHT
TZOFFSETFROM:+0100
TZOFFSETTO:+0200
TZNAME:CEST
DTSTART:20240331T010000
END:DAYLIGHT
BEGIN:STANDARD
TZOFFSETFROM:+0200
TZOFFSETTO:+0100
TZNAME:CET
DTSTART:20241027T010000
END:STANDARD
BEGIN:DAYLIGHT
TZOFFSETFROM:+0100
TZOFFSETTO:+0200
TZNAME:CEST
DTSTART:20250330T010000
END:DAYLIGHT
BEGIN:STANDARD
TZOFFSETFROM:+0200
TZOFFSETTO:+0100
TZNAME:CET
DTSTART:20251026T010000
END:STANDARD
END:VTIMEZONE
BEGIN:VEVENT
DTSTART;TZID=Europe/Berlin:20241113T170000
DTEND;TZID=Europe/Berlin:20241113T180000
DTSTAMP:20260424T033220
CREATED:20241018T171005Z
LAST-MODIFIED:20241022T200109Z
UID:49717-1731517200-1731520800@medicalaffairs.org
SUMMARY:Making Generative AI Work for You: A Medical Affairs Roadmap from Ideation to Execution (Part 2 of 2)
DESCRIPTION:Explore how AI can revolutionize your daily practice in Medical Affairs. This session will present a practical framework for selecting and implementing AI-driven solutions in your organisation—from identifying the most impactful use cases to execution and roll-out. The focus will be on real-world applications that are highly relevant to Medical Affairs professionals. \n\n\n\nWhy Attend: \n\n\n\n\nPractical Applications: Discover how to implement AI solutions in your daily work.\n\n\n\nExpert Panelists: Learn from a dedicated panel of experts with hands-on experience.\n\n\n\nInteractive Experience: Participate in Q&A sessions and engage in meaningful discussions.\n\n\n\n\nElevate your professional skills and embrace the future of Medical Affairs. Reserve your spot today! \n\n\n\nStay tuned for further announcements and detailed agendas. \n\n\n\n \n\n\n\n\nRegister\n\n\n\n\n\n\n\nModerator: \n\n\n\nTobias Suiter \n\n\n\nC-Level Consultant \n\n\n\nDr. Suiter BioPharma Consultancy \n\n\n\n\n\n\n\nPanelist: \n\n\n\nLeonard d’Ambrosi \n\n\n\nPrincipal Data Scientist \n\n\n\nBayer \n\n\n\n\n\n\n\nPanelist:  \n\n\n\nBora Erdemli \n\n\n\nPrincipal  \n\n\n\nZS & MAPS Switzerland Chapter Lead \n\n\n\n\n\n\n\n\n\nPanelist: \n\n\n\nAndreas Gerloff \n\n\n\nVP \n\n\n\nGlobal Head of Medical Customer Excellence
URL:https://medicalaffairs.org/events/germanychapter2/
CATEGORIES:Chapter Events,Chapter: United Kingdom/Ireland
ATTACH;FMTTYPE=image/png:https://medicalaffairs.org/wp-content/uploads/2024/10/Nov13_germany.png
END:VEVENT
END:VCALENDAR