BEGIN:VCALENDAR
VERSION:2.0
PRODID:-//Medical Affairs Professional Society - ECPv6.15.20//NONSGML v1.0//EN
CALSCALE:GREGORIAN
METHOD:PUBLISH
X-ORIGINAL-URL:https://medicalaffairs.org
X-WR-CALDESC:Events for Medical Affairs Professional Society
REFRESH-INTERVAL;VALUE=DURATION:PT1H
X-Robots-Tag:noindex
X-PUBLISHED-TTL:PT1H
BEGIN:VTIMEZONE
TZID:America/New_York
BEGIN:DAYLIGHT
TZOFFSETFROM:-0500
TZOFFSETTO:-0400
TZNAME:EDT
DTSTART:20230312T070000
END:DAYLIGHT
BEGIN:STANDARD
TZOFFSETFROM:-0400
TZOFFSETTO:-0500
TZNAME:EST
DTSTART:20231105T060000
END:STANDARD
BEGIN:DAYLIGHT
TZOFFSETFROM:-0500
TZOFFSETTO:-0400
TZNAME:EDT
DTSTART:20240310T070000
END:DAYLIGHT
BEGIN:STANDARD
TZOFFSETFROM:-0400
TZOFFSETTO:-0500
TZNAME:EST
DTSTART:20241103T060000
END:STANDARD
BEGIN:DAYLIGHT
TZOFFSETFROM:-0500
TZOFFSETTO:-0400
TZNAME:EDT
DTSTART:20250309T070000
END:DAYLIGHT
BEGIN:STANDARD
TZOFFSETFROM:-0400
TZOFFSETTO:-0500
TZNAME:EST
DTSTART:20251102T060000
END:STANDARD
END:VTIMEZONE
BEGIN:VEVENT
DTSTART;TZID=America/New_York:20241025T170000
DTEND;TZID=America/New_York:20241025T203000
DTSTAMP:20260421T170809
CREATED:20241017T205053Z
LAST-MODIFIED:20241018T143346Z
UID:49691-1729875600-1729888200@medicalaffairs.org
SUMMARY:MAPS Canada Chapter Meeting: The pivotal role of Medical Affairs in Canada's pharmaceutical and biotech sectors
DESCRIPTION:Join us for an engaging discussion with Canadian Medical Affairs leaders to explore: \n\n\n\n\n– Identifying the unique needs of medical affairs professionals at various career stages to foster a purpose-driven network\n\n\n\n– The pivotal role of Medical Affairs in Canada’s pharmaceutical and biotech sectors\n\n\n\n– The evolving skill sets and capabilities of medical affairs professionals\n\n\n\n\nThe discussion will be followed by a reception\, providing an opportunity to network and connect with MAPS members. \n\n\n\nPanel Objectives: \n\n\n\n\nHow is Med Affairs evolving in Canada – what new capabilities are you seeking for in your team\n\n\n\nWhat trends do you forsee shaping Medical Affairs in Canada?\n\n\n\nShare your career path and advice for new career professionals\n\n\n\nWhat opportunities currently exist for network and for MAPS / different ways the Canadian MA teams connect\n\n\n\nHow do you see AI/new technologies being incorporated\n\n\n\n\n \n\n\n\nLocation: \n\n\n\nALT Hotel Toronto Airport \n\n\n\n6080 Viscount Rd.\, \n\n\n\nMississauga\, ON L4V 0A1\, Canada \n\n\n\n\nRegister
URL:https://medicalaffairs.org/events/canadachaptermeeting/
CATEGORIES:Chapter Events,Chapter: Canada
ATTACH;FMTTYPE=image/png:https://medicalaffairs.org/wp-content/uploads/2023/04/CanadaChapter_Oct25.png
END:VEVENT
END:VCALENDAR