BEGIN:VCALENDAR
VERSION:2.0
PRODID:-//Medical Affairs Professional Society - ECPv6.15.20//NONSGML v1.0//EN
CALSCALE:GREGORIAN
METHOD:PUBLISH
X-ORIGINAL-URL:https://medicalaffairs.org
X-WR-CALDESC:Events for Medical Affairs Professional Society
REFRESH-INTERVAL;VALUE=DURATION:PT1H
X-Robots-Tag:noindex
X-PUBLISHED-TTL:PT1H
BEGIN:VTIMEZONE
TZID:Asia/Seoul
BEGIN:STANDARD
TZOFFSETFROM:+0900
TZOFFSETTO:+0900
TZNAME:KST
DTSTART:20230101T000000
END:STANDARD
END:VTIMEZONE
BEGIN:VEVENT
DTSTART;TZID=Asia/Seoul:20241018T090000
DTEND;TZID=Asia/Seoul:20241018T180000
DTSTAMP:20260419T155044
CREATED:20240925T153413Z
LAST-MODIFIED:20240927T213623Z
UID:49237-1729242000-1729274400@medicalaffairs.org
SUMMARY:KSPM-MAPS Medical Affairs Summit 2024: Seoul\, Korea
DESCRIPTION:Join us for the inaugural KSPM – MAPS Korea Medical Affairs Summit in Seoul. This exciting event\, co-organized by the Korean Society of Pharmaceutical Medicine (KSPM) and Medical Affairs Professional Society (MAPS)\, will focus on the ever-growing impact Medical Affairs is having on patient outcomes with this yearʼs theme\, “Revisiting the Roles\, Value and Practice of Medical Affairs in Biopharmaceutical Industries.” \n\n\n\nThis is MAPS’ first-ever event to take place in Korea! \n\n\n\nVenue: \n\n\n\n1 Floor\, Institute of Biomedical Industry\, Catholic University \n\n\n\nSeoul\, Korea \n\n\n\n\nRegister\n\n\n\nCheck Out the Full Brochure
URL:https://medicalaffairs.org/events/seoul2024/
ATTACH;FMTTYPE=image/png:https://medicalaffairs.org/wp-content/uploads/2024/09/Seoul_website.png
END:VEVENT
END:VCALENDAR