BEGIN:VCALENDAR
VERSION:2.0
PRODID:-//Medical Affairs Professional Society - ECPv6.15.20//NONSGML v1.0//EN
CALSCALE:GREGORIAN
METHOD:PUBLISH
X-WR-CALNAME:Medical Affairs Professional Society
X-ORIGINAL-URL:https://medicalaffairs.org
X-WR-CALDESC:Events for Medical Affairs Professional Society
REFRESH-INTERVAL;VALUE=DURATION:PT1H
X-Robots-Tag:noindex
X-PUBLISHED-TTL:PT1H
BEGIN:VTIMEZONE
TZID:UTC
BEGIN:STANDARD
TZOFFSETFROM:+0000
TZOFFSETTO:+0000
TZNAME:UTC
DTSTART:20230101T000000
END:STANDARD
END:VTIMEZONE
BEGIN:VTIMEZONE
TZID:Europe/Helsinki
BEGIN:DAYLIGHT
TZOFFSETFROM:+0200
TZOFFSETTO:+0300
TZNAME:EEST
DTSTART:20230326T010000
END:DAYLIGHT
BEGIN:STANDARD
TZOFFSETFROM:+0300
TZOFFSETTO:+0200
TZNAME:EET
DTSTART:20231029T010000
END:STANDARD
BEGIN:DAYLIGHT
TZOFFSETFROM:+0200
TZOFFSETTO:+0300
TZNAME:EEST
DTSTART:20240331T010000
END:DAYLIGHT
BEGIN:STANDARD
TZOFFSETFROM:+0300
TZOFFSETTO:+0200
TZNAME:EET
DTSTART:20241027T010000
END:STANDARD
BEGIN:DAYLIGHT
TZOFFSETFROM:+0200
TZOFFSETTO:+0300
TZNAME:EEST
DTSTART:20250330T010000
END:DAYLIGHT
BEGIN:STANDARD
TZOFFSETFROM:+0300
TZOFFSETTO:+0200
TZNAME:EET
DTSTART:20251026T010000
END:STANDARD
END:VTIMEZONE
BEGIN:VEVENT
DTSTART;TZID=UTC:20240923T000000
DTEND;TZID=UTC:20240924T235959
DTSTAMP:20260422T203608
CREATED:20240301T204035Z
LAST-MODIFIED:20240321T152641Z
UID:43194-1727049600-1727222399@medicalaffairs.org
SUMMARY:Launch Excellence MasterClass: Basel\, Switzerland
DESCRIPTION:Add to Calendar\n\n\n\n\nJoin us in Basel\, Switzerland in September 23-24\, 2024. More Information Coming Soon.
URL:https://medicalaffairs.org/events/launch-excellence-masterclass-basel-switzerland/
ATTACH;FMTTYPE=image/png:https://medicalaffairs.org/wp-content/uploads/2024/03/LE_Basel.png
END:VEVENT
BEGIN:VEVENT
DTSTART;TZID=Europe/Helsinki:20240924T180000
DTEND;TZID=Europe/Helsinki:20240924T193000
DTSTAMP:20260422T203608
CREATED:20240821T155720Z
LAST-MODIFIED:20240912T155653Z
UID:48668-1727200800-1727206200@medicalaffairs.org
SUMMARY:MAPS Chapter Switzerland Event: In-Person Networking Reception
DESCRIPTION:Join us for a dynamic networking event on September 24th\, following the MAPS Masterclass\, designed for both MAPS Switzerland Chapter members and non-members. This free event provides a unique opportunity to connect with peers in the Medical Affairs community\, foster collaboration\, and gain insights into the impactful work that MAPS does. Strengthen your professional network and be part of a vibrant community dedicated to excellence in Medical Affairs. We look forward to seeing you there! \n\n\n\nLocation: \n\n\n\nBasel Marriott Hotel \n\n\n\nMessepl. 25\, 4058  \n\n\n\nBasel\, Switzerland \n\n\n\nThis event has reached it’s full capacity\, make sure to register now to join the waitlist! \n\n\n\n\nRegister to Join the Waitlist\n\n\n\n\n\n\n\n\n\n\n\nModerator: \n\n\n\nTamas Koncz \n\n\n\nChief Medical Officer \n\n\n\nPfizer \n\n\n\n\n\n\n\nModerator: \n\n\n\nBora Erdemli \n\n\n\nPrincipal \n\n\n\nZS \n\n\n\n\n\n\n\nModerator: \n\n\n\nVinicius Gomes de Lima \n\n\n\nVP\, Head of Global Medical Affairs \n\n\n\nCSL Vifor
URL:https://medicalaffairs.org/events/switzerland-network/
CATEGORIES:Chapter Events,Chapter: Switzerland/Nordics
ATTACH;FMTTYPE=image/png:https://medicalaffairs.org/wp-content/uploads/2024/08/Chapter-swizterlandsept24-1.png
END:VEVENT
END:VCALENDAR