BEGIN:VCALENDAR
VERSION:2.0
PRODID:-//Medical Affairs Professional Society - ECPv6.15.20//NONSGML v1.0//EN
CALSCALE:GREGORIAN
METHOD:PUBLISH
X-WR-CALNAME:Medical Affairs Professional Society
X-ORIGINAL-URL:https://medicalaffairs.org
X-WR-CALDESC:Events for Medical Affairs Professional Society
REFRESH-INTERVAL;VALUE=DURATION:PT1H
X-Robots-Tag:noindex
X-PUBLISHED-TTL:PT1H
BEGIN:VTIMEZONE
TZID:Europe/Berlin
BEGIN:DAYLIGHT
TZOFFSETFROM:+0100
TZOFFSETTO:+0200
TZNAME:CEST
DTSTART:20230326T010000
END:DAYLIGHT
BEGIN:STANDARD
TZOFFSETFROM:+0200
TZOFFSETTO:+0100
TZNAME:CET
DTSTART:20231029T010000
END:STANDARD
BEGIN:DAYLIGHT
TZOFFSETFROM:+0100
TZOFFSETTO:+0200
TZNAME:CEST
DTSTART:20240331T010000
END:DAYLIGHT
BEGIN:STANDARD
TZOFFSETFROM:+0200
TZOFFSETTO:+0100
TZNAME:CET
DTSTART:20241027T010000
END:STANDARD
BEGIN:DAYLIGHT
TZOFFSETFROM:+0100
TZOFFSETTO:+0200
TZNAME:CEST
DTSTART:20250330T010000
END:DAYLIGHT
BEGIN:STANDARD
TZOFFSETFROM:+0200
TZOFFSETTO:+0100
TZNAME:CET
DTSTART:20251026T010000
END:STANDARD
END:VTIMEZONE
BEGIN:VEVENT
DTSTART;TZID=Europe/Berlin:20240905T160000
DTEND;TZID=Europe/Berlin:20240905T173000
DTSTAMP:20260424T024418
CREATED:20240815T201458Z
LAST-MODIFIED:20240830T172737Z
UID:48584-1725552000-1725557400@medicalaffairs.org
SUMMARY:Learnings from 1000 Launches: How Medical Affairs can Drive Launch Success
DESCRIPTION:This session will delve into the insights and learnings from the “Learning from 1000 Launches: How Medical Affairs can Drive Launch Success” a topic that was prominently discussed during the MAPS event in Puerto Rico in March 2024. Participants will have the opportunity to engage with experts and explore the implications of these learnings for future initiatives. Don’t miss this chance to expand your knowledge and connect with the community! \n\n\n\n\nRegister \n\n\n\n\n\n\n\n\n\n\n\nModerator: \n\n\n\nTobias Suiter \n\n\n\nC-Level Consultant \n\n\n\nDr. Suiter BioPharma Consultancy \n\n\n\n\n\n\n\nPanelist: \n\n\n\nDavid Kelaher \n\n\n\nSenior Director Medical Affairs \n\n\n\nIQVIA \n\n\n\n\n\n\n\nPanelist: \n\n\n\nArron Mungul \n\n\n\nFounder \n\n\n\nApogee Life Sciences Ltd \n\n\n\n\n\n\n\n\n\nPanelist: \n\n\n\nMónica de Abadal \n\n\n\nGlobal Medical Affairs Executive and Senior VP \n\n\n\nFormer MAPS EMEA President and part of MAPS Executive Consortium
URL:https://medicalaffairs.org/events/learnings1000/
CATEGORIES:Chapter Events,Chapter: Germany
ATTACH;FMTTYPE=image/png:https://medicalaffairs.org/wp-content/uploads/2024/08/chapter-germany-sept5.png
END:VEVENT
END:VCALENDAR