BEGIN:VCALENDAR
VERSION:2.0
PRODID:-//Medical Affairs Professional Society - ECPv6.15.20//NONSGML v1.0//EN
CALSCALE:GREGORIAN
METHOD:PUBLISH
X-ORIGINAL-URL:https://medicalaffairs.org
X-WR-CALDESC:Events for Medical Affairs Professional Society
REFRESH-INTERVAL;VALUE=DURATION:PT1H
X-Robots-Tag:noindex
X-PUBLISHED-TTL:PT1H
BEGIN:VTIMEZONE
TZID:America/Denver
BEGIN:DAYLIGHT
TZOFFSETFROM:-0700
TZOFFSETTO:-0600
TZNAME:MDT
DTSTART:20230312T090000
END:DAYLIGHT
BEGIN:STANDARD
TZOFFSETFROM:-0600
TZOFFSETTO:-0700
TZNAME:MST
DTSTART:20231105T080000
END:STANDARD
BEGIN:DAYLIGHT
TZOFFSETFROM:-0700
TZOFFSETTO:-0600
TZNAME:MDT
DTSTART:20240310T090000
END:DAYLIGHT
BEGIN:STANDARD
TZOFFSETFROM:-0600
TZOFFSETTO:-0700
TZNAME:MST
DTSTART:20241103T080000
END:STANDARD
BEGIN:DAYLIGHT
TZOFFSETFROM:-0700
TZOFFSETTO:-0600
TZNAME:MDT
DTSTART:20250309T090000
END:DAYLIGHT
BEGIN:STANDARD
TZOFFSETFROM:-0600
TZOFFSETTO:-0700
TZNAME:MST
DTSTART:20251102T080000
END:STANDARD
END:VTIMEZONE
BEGIN:VEVENT
DTSTART;TZID=America/Denver:20240830T000000
DTEND;TZID=America/Denver:20240830T235959
DTSTAMP:20260424T111150
CREATED:20240628T225817Z
LAST-MODIFIED:20240702T193817Z
UID:47452-1724976000-1725062399@medicalaffairs.org
SUMMARY:MAPS Taiwain Medical Affairs Summit: Taipei
DESCRIPTION:Add to Calendar\n\n\n\n\nSave the date!! Join us in Taipei\, Taiwan on August 30. More information coming soon.
URL:https://medicalaffairs.org/events/taiwan/
ATTACH;FMTTYPE=image/png:https://medicalaffairs.org/wp-content/uploads/2024/06/taipei_Summit.png
END:VEVENT
END:VCALENDAR