BEGIN:VCALENDAR
VERSION:2.0
PRODID:-//Medical Affairs Professional Society - ECPv6.15.20//NONSGML v1.0//EN
CALSCALE:GREGORIAN
METHOD:PUBLISH
X-WR-CALNAME:Medical Affairs Professional Society
X-ORIGINAL-URL:https://medicalaffairs.org
X-WR-CALDESC:Events for Medical Affairs Professional Society
REFRESH-INTERVAL;VALUE=DURATION:PT1H
X-Robots-Tag:noindex
X-PUBLISHED-TTL:PT1H
BEGIN:VTIMEZONE
TZID:Europe/Moscow
BEGIN:STANDARD
TZOFFSETFROM:+0300
TZOFFSETTO:+0300
TZNAME:MSK
DTSTART:20230101T000000
END:STANDARD
END:VTIMEZONE
BEGIN:VEVENT
DTSTART;TZID=Europe/Moscow:20240829T191500
DTEND;TZID=Europe/Moscow:20240829T202000
DTSTAMP:20260424T122615
CREATED:20240807T183143Z
LAST-MODIFIED:20240828T162245Z
UID:48358-1724958900-1724962800@medicalaffairs.org
SUMMARY:"Elements of a Successful Medical Affairs Digital Strategy Framework"
DESCRIPTION:Join the Medical Affairs Professional Society’s Africa Chapter for an insightful virtual event on August 29\, 2024\, at 19:15 East Africa Time. This session will explore the key elements of digital strategy in Medical Affairs\, based on the MAPS white paper “Elements of a Successful Medical Affairs Digital Strategy Framework.” Discover how digital transformation is reshaping the Medical Affairs landscape and learn about essential components for successful implementation. Our expert panel will discuss leveraging digital tools to enhance stakeholder engagement\, optimise data utilisation\, and drive innovation in the field. Whether you’re a seasoned professional or new to Medical Affairs\, this event offers valuable insights into navigating the digital future of our industry. Don’t miss this opportunity to connect with peers and gain practical knowledge to elevate your digital strategy. \n\n\n\n\nRegister \n\n\n\nView MAPS White Paper\n\n\n\n\n\n\n\n\n\n\n\nModerator: \n\n\n\nDr. William Mwiti \n\n\n\nSenior Med Affairs Director \n\n\n\nInstitute of Risk Management \n\n\n\n\n\n\n\nModerator: \n\n\n\nDr. Ida Mbuthia \n\n\n\nLead Healthcare Access \n\n\n\nRoche \n\n\n\n\n\n\n\nPanelist: \n\n\n\nRishi Ohri \n\n\n\nSenior Med Affairs Director \n\n\n\nAstellas
URL:https://medicalaffairs.org/events/digital-strategy-framework/
CATEGORIES:Chapter: Africa,Chapter Events
ATTACH;FMTTYPE=image/png:https://medicalaffairs.org/wp-content/uploads/2024/08/Chapter-Event-websiteafrica.png
END:VEVENT
END:VCALENDAR